BEGIN:VCALENDAR
VERSION:2.0
PRODID:spatie/icalendar-generator
DESCRIPTION:Events from New Castle Methodist Church
X-WR-CALDESC:Events from New Castle Methodist Church
REFRESH-INTERVAL;VALUE=DURATION:PT1440M
X-PUBLISHED-TTL:PT1440M
BEGIN:VTIMEZONE
TZID:Etc/GMT+6
BEGIN:STANDARD
DTSTART:20230519T180000Z
TZOFFSETFROM:-0600
TZOFFSETTO:-0600
END:STANDARD
END:VTIMEZONE
BEGIN:VTIMEZONE
TZID:UTC
BEGIN:STANDARD
DTSTART:20250729T181740Z
TZOFFSETFROM:+0000
TZOFFSETTO:+0000
END:STANDARD
END:VTIMEZONE
BEGIN:VEVENT
UID:2115-10
DTSTAMP:20260425T181740Z
SUMMARY:Youth Spaghetti Dinner Fundraiser
LOCATION:New Castle Methodist Church 3910 New Castle Rd  Gardendale AL 3507
 1
ORGANIZER;CN=admin:MAILTO:u8uwrcsz0iza@p3plzcpnl489507.prod.phx3.secureserv
 er.net
DTSTART;TZID=Etc/GMT+6:20240213T180000
DTEND;TZID=Etc/GMT+6:20240213T200000
X-ALT-DESC;FMTTYPE=TEXT/HTML:We are hosting a spaghetti dinner fundraiser t
 o support our budding youth group. We would love your support! Price: $5 o
 r donation Included: 1 plate of spaghetti 1 side salad garlic bread 1 brow
 nie or fruit cup sweet tea\, lemonade\, or water *drinks not available for
  to-go orders To order\, please send us a message&amp;hellip\;
CATEGORIES:Youth Fundraiser
URL;VALUE=URI:https://newcastlemethodist.org/mc-events/youth-spaghetti-dinn
 er-fundraiser/
METHOD:PUBLISH
END:VEVENT
END:VCALENDAR