BEGIN:VCALENDAR
VERSION:2.0
PRODID:spatie/icalendar-generator
DESCRIPTION:Events from New Castle Methodist Church
X-WR-CALDESC:Events from New Castle Methodist Church
REFRESH-INTERVAL;VALUE=DURATION:PT1440M
X-PUBLISHED-TTL:PT1440M
BEGIN:VTIMEZONE
TZID:Etc/GMT+6
BEGIN:STANDARD
DTSTART:20230619T170000Z
TZOFFSETFROM:-0600
TZOFFSETTO:-0600
END:STANDARD
END:VTIMEZONE
BEGIN:VTIMEZONE
TZID:UTC
BEGIN:STANDARD
DTSTART:20250728T182400Z
TZOFFSETFROM:+0000
TZOFFSETTO:+0000
END:STANDARD
END:VTIMEZONE
BEGIN:VEVENT
UID:2116-11
DTSTAMP:20260424T182400Z
SUMMARY:Birmingham Bulls Church Night Youth Trip
LOCATION:Pelham Civic Complex 500 Amphitheater Road  Pelham AL 35124
ORGANIZER;CN=admin:MAILTO:u8uwrcsz0iza@p3plzcpnl489507.prod.phx3.secureserv
 er.net
DTSTART;TZID=Etc/GMT+6:20240315T170000
DTEND;TZID=Etc/GMT+6:20240315T180000
X-ALT-DESC;FMTTYPE=TEXT/HTML:The youth will meet at 5:00 p.m. for the Churc
 h night at the Birmingham Bulls game on Friday\, March 15th. We will leave
  from the church to eat dinner at Chick-Fil-A in Pelham and then go to the
  hockey venue. The church will cover the cost for dinner. We will not be b
 uying food or&amp;hellip\;
CATEGORIES:Youth Outing
URL;VALUE=URI:https://newcastlemethodist.org/mc-events/birmingham-bulls-chu
 rch-night-youth-trip/
METHOD:PUBLISH
END:VEVENT
END:VCALENDAR