BEGIN:VCALENDAR
VERSION:2.0
PRODID:spatie/icalendar-generator
DESCRIPTION:Events from New Castle Methodist Church
X-WR-CALDESC:Events from New Castle Methodist Church
REFRESH-INTERVAL;VALUE=DURATION:PT1440M
X-PUBLISHED-TTL:PT1440M
BEGIN:VTIMEZONE
TZID:Etc/GMT+6
BEGIN:STANDARD
DTSTART:20230702T180000Z
TZOFFSETFROM:-0600
TZOFFSETTO:-0600
END:STANDARD
END:VTIMEZONE
BEGIN:VTIMEZONE
TZID:UTC
BEGIN:STANDARD
DTSTART:20250728T081524Z
TZOFFSETFROM:+0000
TZOFFSETTO:+0000
END:STANDARD
END:VTIMEZONE
BEGIN:VEVENT
UID:2119-14
DTSTAMP:20260424T081524Z
SUMMARY:Maundy Thursday Service
LOCATION:Fulton Springs Methodist Church 1900 Stouts Road  Fultondale AL 35
 068
ORGANIZER;CN=admin:MAILTO:u8uwrcsz0iza@p3plzcpnl489507.prod.phx3.secureserv
 er.net
DTSTART;TZID=Etc/GMT+6:20240328T180000
DTEND;TZID=Etc/GMT+6:20240328T190000
X-ALT-DESC;FMTTYPE=TEXT/HTML:Our congregation will be joining together with
  Fulton Springs Methodist Church at their location for a joint Maundy Thur
 sday Service.
CATEGORIES:Special Services
URL;VALUE=URI:https://newcastlemethodist.org/mc-events/maundy-thursday-serv
 ice/
METHOD:PUBLISH
END:VEVENT
END:VCALENDAR