BEGIN:VCALENDAR
VERSION:2.0
PRODID:spatie/icalendar-generator
DESCRIPTION:Events from New Castle Methodist Church
X-WR-CALDESC:Events from New Castle Methodist Church
REFRESH-INTERVAL;VALUE=DURATION:PT1440M
X-PUBLISHED-TTL:PT1440M
BEGIN:VTIMEZONE
TZID:Etc/GMT+6
BEGIN:STANDARD
DTSTART:20230719T120000Z
TZOFFSETFROM:-0600
TZOFFSETTO:-0600
END:STANDARD
END:VTIMEZONE
BEGIN:VTIMEZONE
TZID:UTC
BEGIN:STANDARD
DTSTART:20250727T192140Z
TZOFFSETFROM:+0000
TZOFFSETTO:+0000
END:STANDARD
END:VTIMEZONE
BEGIN:VEVENT
UID:2121-17
DTSTAMP:20260423T192140Z
SUMMARY:Trustees Meeting
LOCATION:New Castle Methodist Church 3910 New Castle Rd  Gardendale AL 3507
 1
ORGANIZER;CN=admin:MAILTO:u8uwrcsz0iza@p3plzcpnl489507.prod.phx3.secureserv
 er.net
DTSTART;TZID=Etc/GMT+6:20240414T120000
DTEND;TZID=Etc/GMT+6:20240414T130000
X-ALT-DESC;FMTTYPE=TEXT/HTML:The Trustees will be discussing the proposal f
 or an accessible restroom upstairs. If a remote option is needed or you ha
 ve another item to add to the agenda\, please let James Cassidy\, the chai
 r\, know before Saturday\, April 6.
CATEGORIES:Meetings
URL;VALUE=URI:https://newcastlemethodist.org/mc-events/trustees-meeting/
METHOD:PUBLISH
END:VEVENT
END:VCALENDAR