BEGIN:VCALENDAR
VERSION:2.0
PRODID:spatie/icalendar-generator
DESCRIPTION:Events from New Castle Methodist Church
X-WR-CALDESC:Events from New Castle Methodist Church
REFRESH-INTERVAL;VALUE=DURATION:PT1440M
X-PUBLISHED-TTL:PT1440M
BEGIN:VTIMEZONE
TZID:Etc/GMT+6
BEGIN:STANDARD
DTSTART:20230705T070000Z
TZOFFSETFROM:-0600
TZOFFSETTO:-0600
END:STANDARD
END:VTIMEZONE
BEGIN:VTIMEZONE
TZID:UTC
BEGIN:STANDARD
DTSTART:20250728T050339Z
TZOFFSETFROM:+0000
TZOFFSETTO:+0000
END:STANDARD
END:VTIMEZONE
BEGIN:VEVENT
UID:2123-18
DTSTAMP:20260424T050339Z
SUMMARY:Easter Sunrise Service &amp;amp\; Breakfast
LOCATION:Walker Chapel United Methodist Church 2420 Walker Chapel Rd  Fulto
 ndale AL 35068
ORGANIZER;CN=admin:MAILTO:u8uwrcsz0iza@p3plzcpnl489507.prod.phx3.secureserv
 er.net
DTSTART;TZID=Etc/GMT+6:20240331T070000
DTEND;TZID=Etc/GMT+6:20240331T080000
X-ALT-DESC;FMTTYPE=TEXT/HTML:There will be an Easter Sunday sunrise service
  sponsored by the Fultondale Ministerial Association at Walker Chapel Unit
 ed Methodist Church on Easter Sunday\, March 31st\, at 7:00 a.m. The servi
 ce will be followed by a breakfast at Fulton Springs Methodist church.
CATEGORIES:Special Services
URL;VALUE=URI:https://newcastlemethodist.org/mc-events/easter-sunrise-servi
 ce-breakfast/
METHOD:PUBLISH
END:VEVENT
END:VCALENDAR