BEGIN:VCALENDAR
VERSION:2.0
PRODID:spatie/icalendar-generator
DESCRIPTION:Events from New Castle Methodist Church
X-WR-CALDESC:Events from New Castle Methodist Church
REFRESH-INTERVAL;VALUE=DURATION:PT1440M
X-PUBLISHED-TTL:PT1440M
BEGIN:VTIMEZONE
TZID:Etc/GMT+6
BEGIN:STANDARD
DTSTART:20231022T140000Z
TZOFFSETFROM:-0600
TZOFFSETTO:-0600
END:STANDARD
END:VTIMEZONE
BEGIN:VTIMEZONE
TZID:UTC
BEGIN:STANDARD
DTSTART:20250724T172823Z
TZOFFSETFROM:+0000
TZOFFSETTO:+0000
END:STANDARD
END:VTIMEZONE
BEGIN:VEVENT
UID:2137-30
DTSTAMP:20260420T172823Z
SUMMARY:Youth Outreach - Fultondale Foodbank
LOCATION:
ORGANIZER;CN=admin:MAILTO:u8uwrcsz0iza@p3plzcpnl489507.prod.phx3.secureserv
 er.net
DTSTART;TZID=Etc/GMT+6:20240718T140000
DTEND;TZID=Etc/GMT+6:20240718T190000
X-ALT-DESC;FMTTYPE=TEXT/HTML:The youth are invited to participate in the pr
 ocurement and delivery of food for the Fultondale Foodbank on Thursday\, J
 uly 18th. We will also help the ministry that day to box the food packages
  for families to pick up on Saturday\, July 20th. Everyone needs to be awa
 re that the building where we will be&amp;hellip\;
CATEGORIES:Youth Outreach
URL;VALUE=URI:https://newcastlemethodist.org/mc-events/youth-outreach-fulto
 ndale-foodbank/
METHOD:PUBLISH
END:VEVENT
END:VCALENDAR