BEGIN:VCALENDAR
VERSION:2.0
PRODID:spatie/icalendar-generator
DESCRIPTION:Events from New Castle Methodist Church
X-WR-CALDESC:Events from New Castle Methodist Church
REFRESH-INTERVAL;VALUE=DURATION:PT1440M
X-PUBLISHED-TTL:PT1440M
BEGIN:VTIMEZONE
TZID:Etc/GMT+6
BEGIN:STANDARD
DTSTART:20240228T120000Z
TZOFFSETFROM:-0600
TZOFFSETTO:-0600
END:STANDARD
END:VTIMEZONE
BEGIN:VTIMEZONE
TZID:UTC
BEGIN:STANDARD
DTSTART:20250725T183949Z
TZOFFSETFROM:+0000
TZOFFSETTO:+0000
END:STANDARD
END:VTIMEZONE
BEGIN:VEVENT
UID:2159-40
DTSTAMP:20260421T183949Z
SUMMARY:Church Christmas Decorating
LOCATION:
ORGANIZER;CN=admin:MAILTO:u8uwrcsz0iza@p3plzcpnl489507.prod.phx3.secureserv
 er.net
DTSTART;TZID=Etc/GMT+6:20241124T120000
DTEND;TZID=Etc/GMT+6:20241124T130000
X-ALT-DESC;FMTTYPE=TEXT/HTML:The sanctuary and fellowship hall will be deco
 rated immediately following the worship service on November 24th. Please p
 lan to stay for a short time if possible\, so that we can share the work a
 nd get it done efficiently and in short order.
CATEGORIES:General
URL;VALUE=URI:https://newcastlemethodist.org/mc-events/church-christmas-dec
 orating/
METHOD:PUBLISH
END:VEVENT
END:VCALENDAR