BEGIN:VCALENDAR
VERSION:2.0
PRODID:spatie/icalendar-generator
DESCRIPTION:Events from New Castle Methodist Church
X-WR-CALDESC:Events from New Castle Methodist Church
REFRESH-INTERVAL;VALUE=DURATION:PT1440M
X-PUBLISHED-TTL:PT1440M
BEGIN:VTIMEZONE
TZID:Etc/GMT+6
BEGIN:STANDARD
DTSTART:20230830T093000Z
TZOFFSETFROM:-0600
TZOFFSETTO:-0600
END:STANDARD
END:VTIMEZONE
BEGIN:VTIMEZONE
TZID:UTC
BEGIN:STANDARD
DTSTART:20250726T153010Z
TZOFFSETFROM:+0000
TZOFFSETTO:+0000
END:STANDARD
END:VTIMEZONE
BEGIN:VEVENT
UID:2127-20
DTSTAMP:20260422T153010Z
SUMMARY:Back of House Training
LOCATION:
ORGANIZER;CN=admin:MAILTO:u8uwrcsz0iza@p3plzcpnl489507.prod.phx3.secureserv
 er.net
DTSTART;TZID=Etc/GMT+6:20240526T093000
DTEND;TZID=Etc/GMT+6:20240526T103000
X-ALT-DESC;FMTTYPE=TEXT/HTML:There will be a back of house training session
  starting at 9:30 and  running through the Sunday school hour on Sunday\,
  May 26th. We  will be discussing common issues that have popped up over 
 the last  few months and the solutions for them. We will also have a refr
 esher for the software  and hardware we&amp;hellip\;
CATEGORIES:Training
URL;VALUE=URI:https://newcastlemethodist.org/mc-events/back-of-house-traini
 ng/
METHOD:PUBLISH
END:VEVENT
END:VCALENDAR