BEGIN:VCALENDAR
VERSION:2.0
PRODID:spatie/icalendar-generator
DESCRIPTION:Events from New Castle Methodist Church
X-WR-CALDESC:Events from New Castle Methodist Church
REFRESH-INTERVAL;VALUE=DURATION:PT1440M
X-PUBLISHED-TTL:PT1440M
BEGIN:VTIMEZONE
TZID:Etc/GMT+6
BEGIN:STANDARD
DTSTART:20230822T000000Z
TZOFFSETFROM:-0600
TZOFFSETTO:-0600
END:STANDARD
END:VTIMEZONE
BEGIN:VTIMEZONE
TZID:UTC
BEGIN:STANDARD
DTSTART:20250726T220348Z
TZOFFSETFROM:+0000
TZOFFSETTO:+0000
END:STANDARD
END:VTIMEZONE
BEGIN:VEVENT
UID:2128-21
DTSTAMP:20260422T220348Z
SUMMARY:Continuing Prayer Request List Reset
LOCATION:
ORGANIZER;CN=admin:MAILTO:u8uwrcsz0iza@p3plzcpnl489507.prod.phx3.secureserv
 er.net
DTSTART;TZID=Etc/GMT+6;VALUE=DATE:20240518
DTEND;TZID=Etc/GMT+6;VALUE=DATE:20240519
X-ALT-DESC;FMTTYPE=TEXT/HTML:
CATEGORIES:General
URL;VALUE=URI:https://newcastlemethodist.org/mc-events/continuing-prayer-re
 quest-list-reset/
METHOD:PUBLISH
END:VEVENT
END:VCALENDAR