BEGIN:VCALENDAR
VERSION:2.0
PRODID:spatie/icalendar-generator
DESCRIPTION:Events from New Castle Methodist Church
X-WR-CALDESC:Events from New Castle Methodist Church
REFRESH-INTERVAL;VALUE=DURATION:PT1440M
X-PUBLISHED-TTL:PT1440M
BEGIN:VTIMEZONE
TZID:Etc/GMT+6
BEGIN:STANDARD
DTSTART:20231004T000000Z
TZOFFSETFROM:-0600
TZOFFSETTO:-0600
END:STANDARD
END:VTIMEZONE
BEGIN:VTIMEZONE
TZID:UTC
BEGIN:STANDARD
DTSTART:20250725T123636Z
TZOFFSETFROM:+0000
TZOFFSETTO:+0000
END:STANDARD
END:VTIMEZONE
BEGIN:VEVENT
UID:2132-23
DTSTAMP:20260421T123636Z
SUMMARY:Youth Gaming Sunday School
LOCATION:
ORGANIZER;CN=admin:MAILTO:u8uwrcsz0iza@p3plzcpnl489507.prod.phx3.secureserv
 er.net
DTSTART;TZID=Etc/GMT+6;VALUE=DATE:20240630
DTEND;TZID=Etc/GMT+6;VALUE=DATE:20240701
X-ALT-DESC;FMTTYPE=TEXT/HTML:The first of the Sundays of Summer special cla
 sses!
CATEGORIES:General
URL;VALUE=URI:https://newcastlemethodist.org/mc-events/youth-gaming-sunday-
 school/
METHOD:PUBLISH
END:VEVENT
END:VCALENDAR