BEGIN:VCALENDAR
VERSION:2.0
PRODID:spatie/icalendar-generator
DESCRIPTION:Events from New Castle Methodist Church
X-WR-CALDESC:Events from New Castle Methodist Church
REFRESH-INTERVAL;VALUE=DURATION:PT1440M
X-PUBLISHED-TTL:PT1440M
BEGIN:VTIMEZONE
TZID:Etc/GMT+6
BEGIN:STANDARD
DTSTART:20231004T120000Z
TZOFFSETFROM:-0600
TZOFFSETTO:-0600
END:STANDARD
END:VTIMEZONE
BEGIN:VTIMEZONE
TZID:UTC
BEGIN:STANDARD
DTSTART:20250725T083509Z
TZOFFSETFROM:+0000
TZOFFSETTO:+0000
END:STANDARD
END:VTIMEZONE
BEGIN:VEVENT
UID:2134-27
DTSTAMP:20260421T083509Z
SUMMARY:Quarterly PPR Committee Meeting
LOCATION:
ORGANIZER;CN=admin:MAILTO:u8uwrcsz0iza@p3plzcpnl489507.prod.phx3.secureserv
 er.net
DTSTART;TZID=Etc/GMT+6:20240630T120000
DTEND;TZID=Etc/GMT+6:20240630T130000
X-ALT-DESC;FMTTYPE=TEXT/HTML:Immediately following the worship service. Rem
 ote option available upon request.
CATEGORIES:Meetings
URL;VALUE=URI:https://newcastlemethodist.org/mc-events/quarterly-ppr-commit
 tee-meeting/
METHOD:PUBLISH
END:VEVENT
END:VCALENDAR