BEGIN:VCALENDAR
VERSION:2.0
PRODID:spatie/icalendar-generator
DESCRIPTION:Events from New Castle Methodist Church
X-WR-CALDESC:Events from New Castle Methodist Church
REFRESH-INTERVAL;VALUE=DURATION:PT1440M
X-PUBLISHED-TTL:PT1440M
BEGIN:VTIMEZONE
TZID:Etc/GMT+6
BEGIN:STANDARD
DTSTART:20231025T120000Z
TZOFFSETFROM:-0600
TZOFFSETTO:-0600
END:STANDARD
END:VTIMEZONE
BEGIN:VTIMEZONE
TZID:UTC
BEGIN:STANDARD
DTSTART:20250724T145745Z
TZOFFSETFROM:+0000
TZOFFSETTO:+0000
END:STANDARD
END:VTIMEZONE
BEGIN:VEVENT
UID:2135-28
DTSTAMP:20260420T145745Z
SUMMARY:Church Council &amp;amp\; Finance Committee Meeting
LOCATION:New Castle Methodist Church 3910 New Castle Rd  Gardendale AL 3507
 1
ORGANIZER;CN=admin:MAILTO:u8uwrcsz0iza@p3plzcpnl489507.prod.phx3.secureserv
 er.net
DTSTART;TZID=Etc/GMT+6:20240721T120000
DTEND;TZID=Etc/GMT+6:20240721T130000
X-ALT-DESC;FMTTYPE=TEXT/HTML:We will have a Church Council and Finance Comm
 ittee meeting on Sunday\, July 21st\, immediately following worship. We wi
 ll be addressing the items that were tabled during the July 14th meeting\
 , including what will be done with the annuity that matured at the end of 
 June. If you want anything added to the agenda\, let Jim&amp;hellip\;
CATEGORIES:Meetings
URL;VALUE=URI:https://newcastlemethodist.org/mc-events/church-council-finan
 ce-committee-meeting-2/
METHOD:PUBLISH
END:VEVENT
END:VCALENDAR