BEGIN:VCALENDAR
VERSION:2.0
PRODID:spatie/icalendar-generator
DESCRIPTION:Events from New Castle Methodist Church
X-WR-CALDESC:Events from New Castle Methodist Church
REFRESH-INTERVAL;VALUE=DURATION:PT1440M
X-PUBLISHED-TTL:PT1440M
BEGIN:VTIMEZONE
TZID:Etc/GMT+6
BEGIN:STANDARD
DTSTART:20231018T120000Z
TZOFFSETFROM:-0600
TZOFFSETTO:-0600
END:STANDARD
END:VTIMEZONE
BEGIN:VTIMEZONE
TZID:UTC
BEGIN:STANDARD
DTSTART:20250724T220033Z
TZOFFSETFROM:+0000
TZOFFSETTO:+0000
END:STANDARD
END:VTIMEZONE
BEGIN:VEVENT
UID:2136-29
DTSTAMP:20260420T220033Z
SUMMARY:Church Council &amp;amp\; Finance Committee Meeting
LOCATION:New Castle Methodist Church 3910 New Castle Rd  Gardendale AL 3507
 1
ORGANIZER;CN=admin:MAILTO:u8uwrcsz0iza@p3plzcpnl489507.prod.phx3.secureserv
 er.net
DTSTART;TZID=Etc/GMT+6:20240714T120000
DTEND;TZID=Etc/GMT+6:20240714T130000
X-ALT-DESC;FMTTYPE=TEXT/HTML:We will have a Church Council and Finance Comm
 ittee meeting on Sunday\, July 14th\, immediately following worship. We wi
 ll be addressing the items that were tabled during the June 23rd meeting\,
  including what will be done with the annuity that matured at the end of J
 une. If you want anything added to the agenda\, let&amp;hellip\;
CATEGORIES:Meetings
URL;VALUE=URI:https://newcastlemethodist.org/mc-events/church-council-finan
 ce-committee-meeting-3/
METHOD:PUBLISH
END:VEVENT
END:VCALENDAR