BEGIN:VCALENDAR
VERSION:2.0
PRODID:spatie/icalendar-generator
DESCRIPTION:Events from New Castle Methodist Church
X-WR-CALDESC:Events from New Castle Methodist Church
REFRESH-INTERVAL;VALUE=DURATION:PT1440M
X-PUBLISHED-TTL:PT1440M
BEGIN:VTIMEZONE
TZID:Etc/GMT+6
BEGIN:STANDARD
DTSTART:20240110T180000Z
TZOFFSETFROM:-0600
TZOFFSETTO:-0600
END:STANDARD
END:VTIMEZONE
BEGIN:VTIMEZONE
TZID:UTC
BEGIN:STANDARD
DTSTART:20250725T192238Z
TZOFFSETFROM:+0000
TZOFFSETTO:+0000
END:STANDARD
END:VTIMEZONE
BEGIN:VEVENT
UID:2157-38
DTSTAMP:20260421T192238Z
SUMMARY:Church Council\, Finance Committee and Nominations Committee Meetin
 g
LOCATION:
ORGANIZER;CN=admin:MAILTO:u8uwrcsz0iza@p3plzcpnl489507.prod.phx3.secureserv
 er.net
DTSTART;TZID=Etc/GMT+6:20241006T180000
DTEND;TZID=Etc/GMT+6:20241006T190000
X-ALT-DESC;FMTTYPE=TEXT/HTML:We will be preparing the preliminary budget fo
 r charge conference\, discussing the possibility of modifying the church c
 ouncil using the One Board Model and reviewing the necessary changes for t
 he church bylaws. The One Board Model for the Church council will add othe
 r committees to the church council. Currently the church council consists 
 of the&amp;hellip\;
CATEGORIES:Meetings
URL;VALUE=URI:https://newcastlemethodist.org/mc-events/church-council-finan
 ce-committee-and-nominations-committee-meeting/
METHOD:PUBLISH
END:VEVENT
END:VCALENDAR